BEGIN:VCALENDAR
VERSION:2.0
PRODID:-//Tukios.com/
BEGIN:VEVENT
UID:f6eed47b-3096-468c-8084-1ae9ac54202e@www.schoenbauerfuneralhome.com
DTSTAMP:20260423T041948Z
DTSTART:20260429T210000Z
DTEND:20260430T000000Z
SUMMARY:Visitation
DESCRIPTION:
URL:https://www.schoenbauerfuneralhome.com/obituaries/margaret-margie-mach
LOCATION: 200 3rd St SE  Montgomery MN 56069
GEO:44.4374369;-93.5786425
END:VEVENT
END:VCALENDAR