BEGIN:VCALENDAR
VERSION:2.0
PRODID:-//Tukios.com/
BEGIN:VEVENT
UID:38806871-1d3b-44af-909e-cb6b31e6f025@www.schoenbauerfuneralhome.com
DTSTAMP:20260423T042326Z
DTSTART:20260430T160000Z
DTEND:20260430T170000Z
SUMMARY:Mass
DESCRIPTION:
URL:https://www.schoenbauerfuneralhome.com/obituaries/margaret-margie-mach
LOCATION: 206 Vine Ave W  Montgomery MN 56069
GEO:44.4384933;-93.5836155
END:VEVENT
END:VCALENDAR