BEGIN:VCALENDAR
VERSION:2.0
PRODID:-//Tukios.com/
BEGIN:VEVENT
UID:202399a3-fbd3-4b92-80cd-88d295237052@www.schoenbauerfuneralhome.com
DTSTAMP:20260422T010856Z
DTSTART:20260502T150000Z
DTEND:20260502T190000Z
SUMMARY:Visitation
DESCRIPTION:
URL:https://www.schoenbauerfuneralhome.com/obituaries/michael-mike-bohnsack
LOCATION: 200 3rd St SE  Montgomery MN 56069
GEO:44.4374369;-93.5786425
END:VEVENT
END:VCALENDAR