BEGIN:VCALENDAR
VERSION:2.0
PRODID:-//Tukios.com/
BEGIN:VEVENT
UID:b6f90e93-eccd-4ad0-9065-e1a3a157eb34@www.schoenbauerfuneralhome.com
DTSTAMP:20260422T011125Z
DTSTART:20260502T190000Z
DTEND:20260502T200000Z
SUMMARY:Sharing of Memories
DESCRIPTION:
URL:https://www.schoenbauerfuneralhome.com/obituaries/michael-mike-bohnsack
LOCATION: 200 3rd St SE  Montgomery MN 56069
GEO:44.4374369;-93.5786425
END:VEVENT
END:VCALENDAR