BEGIN:VCALENDAR
VERSION:2.0
PRODID:-//Tukios.com/
BEGIN:VEVENT
UID:9a4b3946-ad7d-4600-817f-48e67ea92bd0@www.schoenbauerfuneralhome.com
DTSTAMP:20260422T011058Z
DTSTART:20260502T200000Z
DTEND:20260502T203000Z
SUMMARY:Closing Prayer
DESCRIPTION:
URL:https://www.schoenbauerfuneralhome.com/obituaries/michael-mike-bohnsack
LOCATION: 200 3rd St SE  Montgomery MN 56069
GEO:44.4374369;-93.5786425
END:VEVENT
END:VCALENDAR